BEGIN:VCALENDAR
VERSION:2.0
PRODID:-//Dogwood Canyon - ECPv6.15.18//NONSGML v1.0//EN
CALSCALE:GREGORIAN
METHOD:PUBLISH
X-WR-CALNAME:Dogwood Canyon
X-ORIGINAL-URL:https://dogwoodcanyon.org
X-WR-CALDESC:Events for Dogwood Canyon
REFRESH-INTERVAL;VALUE=DURATION:PT1H
X-Robots-Tag:noindex
X-PUBLISHED-TTL:PT1H
BEGIN:VTIMEZONE
TZID:America/Chicago
BEGIN:DAYLIGHT
TZOFFSETFROM:-0600
TZOFFSETTO:-0500
TZNAME:CDT
DTSTART:20250309T080000
END:DAYLIGHT
BEGIN:STANDARD
TZOFFSETFROM:-0500
TZOFFSETTO:-0600
TZNAME:CST
DTSTART:20251102T070000
END:STANDARD
BEGIN:DAYLIGHT
TZOFFSETFROM:-0600
TZOFFSETTO:-0500
TZNAME:CDT
DTSTART:20260308T080000
END:DAYLIGHT
BEGIN:STANDARD
TZOFFSETFROM:-0500
TZOFFSETTO:-0600
TZNAME:CST
DTSTART:20261101T070000
END:STANDARD
BEGIN:DAYLIGHT
TZOFFSETFROM:-0600
TZOFFSETTO:-0500
TZNAME:CDT
DTSTART:20270314T080000
END:DAYLIGHT
BEGIN:STANDARD
TZOFFSETFROM:-0500
TZOFFSETTO:-0600
TZNAME:CST
DTSTART:20271107T070000
END:STANDARD
END:VTIMEZONE
BEGIN:VEVENT
DTSTART;TZID=America/Chicago:20260819T133000
DTEND;TZID=America/Chicago:20260819T150000
DTSTAMP:20260422T165104
CREATED:20260221T204004Z
LAST-MODIFIED:20260221T204218Z
UID:10009904-1787146200-1787151600@dogwoodcanyon.org
SUMMARY:Stone-Age Survival Skills Demo
DESCRIPTION:There is a direct line of human technology\, from 2.3 million years ago when our earliest ancestors banged rocks to make cutting tools\, to the rapid advances in our modern world.  Join Bo Brown\, survival instructor and author of Foraging the Ozarks and Foraging Central Grasslands\, to explore the humble beginnings of the technologies that allowed our species to survive and thrive.
URL:https://dogwoodcanyon.org/event/stone-age-survival-skills-demo-2/2026-08-19/
ATTACH;FMTTYPE=image/jpeg:https://dogwoodcanyon.org/wp-content/uploads/2023/11/shutterstock_555811084-scaled-e1747932397666.jpg
END:VEVENT
BEGIN:VEVENT
DTSTART;TZID=America/Chicago:20260826T110000
DTEND;TZID=America/Chicago:20260826T123000
DTSTAMP:20260422T165104
CREATED:20260221T201715Z
LAST-MODIFIED:20260221T201715Z
UID:10009875-1787742000-1787747400@dogwoodcanyon.org
SUMMARY:Foraging the Ozarks
DESCRIPTION:Join Bo Brown\, wilderness survival instructor and author of Foraging the Ozarks and Foraging Central Grasslands\, at Dogwood Canyon Nature Park for a mosey around the canyon to learn about wildflowers\, edible and medicinal plants\, and a bit about local archaeology. Bring binoculars if you have them\, as there’s always a possibility to see beautiful songbirds and other Ozarks wildlife!
URL:https://dogwoodcanyon.org/event/foraging-the-ozarks-2/2026-08-26/
ATTACH;FMTTYPE=image/jpeg:https://dogwoodcanyon.org/wp-content/uploads/2021/09/DC_DogwoodCAD17-scaled.jpg
END:VEVENT
BEGIN:VEVENT
DTSTART;TZID=America/Chicago:20260826T133000
DTEND;TZID=America/Chicago:20260826T150000
DTSTAMP:20260422T165104
CREATED:20260221T204004Z
LAST-MODIFIED:20260221T204218Z
UID:10009905-1787751000-1787756400@dogwoodcanyon.org
SUMMARY:Stone-Age Survival Skills Demo
DESCRIPTION:There is a direct line of human technology\, from 2.3 million years ago when our earliest ancestors banged rocks to make cutting tools\, to the rapid advances in our modern world.  Join Bo Brown\, survival instructor and author of Foraging the Ozarks and Foraging Central Grasslands\, to explore the humble beginnings of the technologies that allowed our species to survive and thrive.
URL:https://dogwoodcanyon.org/event/stone-age-survival-skills-demo-2/2026-08-26/
ATTACH;FMTTYPE=image/jpeg:https://dogwoodcanyon.org/wp-content/uploads/2023/11/shutterstock_555811084-scaled-e1747932397666.jpg
END:VEVENT
BEGIN:VEVENT
DTSTART;TZID=America/Chicago:20260830T110000
DTEND;TZID=America/Chicago:20260830T123000
DTSTAMP:20260422T165104
CREATED:20260221T201715Z
LAST-MODIFIED:20260221T201715Z
UID:10009876-1788087600-1788093000@dogwoodcanyon.org
SUMMARY:Foraging the Ozarks
DESCRIPTION:Join Bo Brown\, wilderness survival instructor and author of Foraging the Ozarks and Foraging Central Grasslands\, at Dogwood Canyon Nature Park for a mosey around the canyon to learn about wildflowers\, edible and medicinal plants\, and a bit about local archaeology. Bring binoculars if you have them\, as there’s always a possibility to see beautiful songbirds and other Ozarks wildlife!
URL:https://dogwoodcanyon.org/event/foraging-the-ozarks-2/2026-08-30/
ATTACH;FMTTYPE=image/jpeg:https://dogwoodcanyon.org/wp-content/uploads/2021/09/DC_DogwoodCAD17-scaled.jpg
END:VEVENT
BEGIN:VEVENT
DTSTART;TZID=America/Chicago:20260830T133000
DTEND;TZID=America/Chicago:20260830T150000
DTSTAMP:20260422T165104
CREATED:20260221T204004Z
LAST-MODIFIED:20260221T204218Z
UID:10009906-1788096600-1788102000@dogwoodcanyon.org
SUMMARY:Stone-Age Survival Skills Demo
DESCRIPTION:There is a direct line of human technology\, from 2.3 million years ago when our earliest ancestors banged rocks to make cutting tools\, to the rapid advances in our modern world.  Join Bo Brown\, survival instructor and author of Foraging the Ozarks and Foraging Central Grasslands\, to explore the humble beginnings of the technologies that allowed our species to survive and thrive.
URL:https://dogwoodcanyon.org/event/stone-age-survival-skills-demo-2/2026-08-30/
ATTACH;FMTTYPE=image/jpeg:https://dogwoodcanyon.org/wp-content/uploads/2023/11/shutterstock_555811084-scaled-e1747932397666.jpg
END:VEVENT
BEGIN:VEVENT
DTSTART;TZID=America/Chicago:20260902T110000
DTEND;TZID=America/Chicago:20260902T123000
DTSTAMP:20260422T165104
CREATED:20260221T201715Z
LAST-MODIFIED:20260221T201715Z
UID:10009877-1788346800-1788352200@dogwoodcanyon.org
SUMMARY:Foraging the Ozarks
DESCRIPTION:Join Bo Brown\, wilderness survival instructor and author of Foraging the Ozarks and Foraging Central Grasslands\, at Dogwood Canyon Nature Park for a mosey around the canyon to learn about wildflowers\, edible and medicinal plants\, and a bit about local archaeology. Bring binoculars if you have them\, as there’s always a possibility to see beautiful songbirds and other Ozarks wildlife!
URL:https://dogwoodcanyon.org/event/foraging-the-ozarks-2/2026-09-02/
ATTACH;FMTTYPE=image/jpeg:https://dogwoodcanyon.org/wp-content/uploads/2021/09/DC_DogwoodCAD17-scaled.jpg
END:VEVENT
BEGIN:VEVENT
DTSTART;TZID=America/Chicago:20260902T133000
DTEND;TZID=America/Chicago:20260902T150000
DTSTAMP:20260422T165104
CREATED:20260221T204004Z
LAST-MODIFIED:20260221T204218Z
UID:10009907-1788355800-1788361200@dogwoodcanyon.org
SUMMARY:Stone-Age Survival Skills Demo
DESCRIPTION:There is a direct line of human technology\, from 2.3 million years ago when our earliest ancestors banged rocks to make cutting tools\, to the rapid advances in our modern world.  Join Bo Brown\, survival instructor and author of Foraging the Ozarks and Foraging Central Grasslands\, to explore the humble beginnings of the technologies that allowed our species to survive and thrive.
URL:https://dogwoodcanyon.org/event/stone-age-survival-skills-demo-2/2026-09-02/
ATTACH;FMTTYPE=image/jpeg:https://dogwoodcanyon.org/wp-content/uploads/2023/11/shutterstock_555811084-scaled-e1747932397666.jpg
END:VEVENT
BEGIN:VEVENT
DTSTART;TZID=America/Chicago:20260906T110000
DTEND;TZID=America/Chicago:20260906T123000
DTSTAMP:20260422T165104
CREATED:20260221T201715Z
LAST-MODIFIED:20260221T201715Z
UID:10009878-1788692400-1788697800@dogwoodcanyon.org
SUMMARY:Foraging the Ozarks
DESCRIPTION:Join Bo Brown\, wilderness survival instructor and author of Foraging the Ozarks and Foraging Central Grasslands\, at Dogwood Canyon Nature Park for a mosey around the canyon to learn about wildflowers\, edible and medicinal plants\, and a bit about local archaeology. Bring binoculars if you have them\, as there’s always a possibility to see beautiful songbirds and other Ozarks wildlife!
URL:https://dogwoodcanyon.org/event/foraging-the-ozarks-2/2026-09-06/
ATTACH;FMTTYPE=image/jpeg:https://dogwoodcanyon.org/wp-content/uploads/2021/09/DC_DogwoodCAD17-scaled.jpg
END:VEVENT
BEGIN:VEVENT
DTSTART;TZID=America/Chicago:20260906T133000
DTEND;TZID=America/Chicago:20260906T150000
DTSTAMP:20260422T165104
CREATED:20260221T204004Z
LAST-MODIFIED:20260221T204218Z
UID:10009908-1788701400-1788706800@dogwoodcanyon.org
SUMMARY:Stone-Age Survival Skills Demo
DESCRIPTION:There is a direct line of human technology\, from 2.3 million years ago when our earliest ancestors banged rocks to make cutting tools\, to the rapid advances in our modern world.  Join Bo Brown\, survival instructor and author of Foraging the Ozarks and Foraging Central Grasslands\, to explore the humble beginnings of the technologies that allowed our species to survive and thrive.
URL:https://dogwoodcanyon.org/event/stone-age-survival-skills-demo-2/2026-09-06/
ATTACH;FMTTYPE=image/jpeg:https://dogwoodcanyon.org/wp-content/uploads/2023/11/shutterstock_555811084-scaled-e1747932397666.jpg
END:VEVENT
BEGIN:VEVENT
DTSTART;TZID=America/Chicago:20260918T110000
DTEND;TZID=America/Chicago:20260918T123000
DTSTAMP:20260422T165104
CREATED:20260221T201715Z
LAST-MODIFIED:20260221T201715Z
UID:10009879-1789729200-1789734600@dogwoodcanyon.org
SUMMARY:Foraging the Ozarks
DESCRIPTION:Join Bo Brown\, wilderness survival instructor and author of Foraging the Ozarks and Foraging Central Grasslands\, at Dogwood Canyon Nature Park for a mosey around the canyon to learn about wildflowers\, edible and medicinal plants\, and a bit about local archaeology. Bring binoculars if you have them\, as there’s always a possibility to see beautiful songbirds and other Ozarks wildlife!
URL:https://dogwoodcanyon.org/event/foraging-the-ozarks-2/2026-09-18/
ATTACH;FMTTYPE=image/jpeg:https://dogwoodcanyon.org/wp-content/uploads/2021/09/DC_DogwoodCAD17-scaled.jpg
END:VEVENT
BEGIN:VEVENT
DTSTART;TZID=America/Chicago:20260918T133000
DTEND;TZID=America/Chicago:20260918T150000
DTSTAMP:20260422T165104
CREATED:20260221T204004Z
LAST-MODIFIED:20260221T204218Z
UID:10009909-1789738200-1789743600@dogwoodcanyon.org
SUMMARY:Stone-Age Survival Skills Demo
DESCRIPTION:There is a direct line of human technology\, from 2.3 million years ago when our earliest ancestors banged rocks to make cutting tools\, to the rapid advances in our modern world.  Join Bo Brown\, survival instructor and author of Foraging the Ozarks and Foraging Central Grasslands\, to explore the humble beginnings of the technologies that allowed our species to survive and thrive.
URL:https://dogwoodcanyon.org/event/stone-age-survival-skills-demo-2/2026-09-18/
ATTACH;FMTTYPE=image/jpeg:https://dogwoodcanyon.org/wp-content/uploads/2023/11/shutterstock_555811084-scaled-e1747932397666.jpg
END:VEVENT
BEGIN:VEVENT
DTSTART;TZID=America/Chicago:20260920T110000
DTEND;TZID=America/Chicago:20260920T123000
DTSTAMP:20260422T165104
CREATED:20260221T201715Z
LAST-MODIFIED:20260221T201715Z
UID:10009880-1789902000-1789907400@dogwoodcanyon.org
SUMMARY:Foraging the Ozarks
DESCRIPTION:Join Bo Brown\, wilderness survival instructor and author of Foraging the Ozarks and Foraging Central Grasslands\, at Dogwood Canyon Nature Park for a mosey around the canyon to learn about wildflowers\, edible and medicinal plants\, and a bit about local archaeology. Bring binoculars if you have them\, as there’s always a possibility to see beautiful songbirds and other Ozarks wildlife!
URL:https://dogwoodcanyon.org/event/foraging-the-ozarks-2/2026-09-20/
ATTACH;FMTTYPE=image/jpeg:https://dogwoodcanyon.org/wp-content/uploads/2021/09/DC_DogwoodCAD17-scaled.jpg
END:VEVENT
BEGIN:VEVENT
DTSTART;TZID=America/Chicago:20260920T133000
DTEND;TZID=America/Chicago:20260920T150000
DTSTAMP:20260422T165104
CREATED:20260221T204004Z
LAST-MODIFIED:20260221T204218Z
UID:10009910-1789911000-1789916400@dogwoodcanyon.org
SUMMARY:Stone-Age Survival Skills Demo
DESCRIPTION:There is a direct line of human technology\, from 2.3 million years ago when our earliest ancestors banged rocks to make cutting tools\, to the rapid advances in our modern world.  Join Bo Brown\, survival instructor and author of Foraging the Ozarks and Foraging Central Grasslands\, to explore the humble beginnings of the technologies that allowed our species to survive and thrive.
URL:https://dogwoodcanyon.org/event/stone-age-survival-skills-demo-2/2026-09-20/
ATTACH;FMTTYPE=image/jpeg:https://dogwoodcanyon.org/wp-content/uploads/2023/11/shutterstock_555811084-scaled-e1747932397666.jpg
END:VEVENT
BEGIN:VEVENT
DTSTART;TZID=America/Chicago:20260930T110000
DTEND;TZID=America/Chicago:20260930T123000
DTSTAMP:20260422T165105
CREATED:20260221T201715Z
LAST-MODIFIED:20260221T201715Z
UID:10009881-1790766000-1790771400@dogwoodcanyon.org
SUMMARY:Foraging the Ozarks
DESCRIPTION:Join Bo Brown\, wilderness survival instructor and author of Foraging the Ozarks and Foraging Central Grasslands\, at Dogwood Canyon Nature Park for a mosey around the canyon to learn about wildflowers\, edible and medicinal plants\, and a bit about local archaeology. Bring binoculars if you have them\, as there’s always a possibility to see beautiful songbirds and other Ozarks wildlife!
URL:https://dogwoodcanyon.org/event/foraging-the-ozarks-2/2026-09-30/
ATTACH;FMTTYPE=image/jpeg:https://dogwoodcanyon.org/wp-content/uploads/2021/09/DC_DogwoodCAD17-scaled.jpg
END:VEVENT
BEGIN:VEVENT
DTSTART;TZID=America/Chicago:20260930T133000
DTEND;TZID=America/Chicago:20260930T150000
DTSTAMP:20260422T165105
CREATED:20260221T204004Z
LAST-MODIFIED:20260221T204218Z
UID:10009911-1790775000-1790780400@dogwoodcanyon.org
SUMMARY:Stone-Age Survival Skills Demo
DESCRIPTION:There is a direct line of human technology\, from 2.3 million years ago when our earliest ancestors banged rocks to make cutting tools\, to the rapid advances in our modern world.  Join Bo Brown\, survival instructor and author of Foraging the Ozarks and Foraging Central Grasslands\, to explore the humble beginnings of the technologies that allowed our species to survive and thrive.
URL:https://dogwoodcanyon.org/event/stone-age-survival-skills-demo-2/2026-09-30/
ATTACH;FMTTYPE=image/jpeg:https://dogwoodcanyon.org/wp-content/uploads/2023/11/shutterstock_555811084-scaled-e1747932397666.jpg
END:VEVENT
BEGIN:VEVENT
DTSTART;TZID=America/Chicago:20261007T110000
DTEND;TZID=America/Chicago:20261007T123000
DTSTAMP:20260422T165105
CREATED:20260221T201715Z
LAST-MODIFIED:20260221T201715Z
UID:10009882-1791370800-1791376200@dogwoodcanyon.org
SUMMARY:Foraging the Ozarks
DESCRIPTION:Join Bo Brown\, wilderness survival instructor and author of Foraging the Ozarks and Foraging Central Grasslands\, at Dogwood Canyon Nature Park for a mosey around the canyon to learn about wildflowers\, edible and medicinal plants\, and a bit about local archaeology. Bring binoculars if you have them\, as there’s always a possibility to see beautiful songbirds and other Ozarks wildlife!
URL:https://dogwoodcanyon.org/event/foraging-the-ozarks-2/2026-10-07/
ATTACH;FMTTYPE=image/jpeg:https://dogwoodcanyon.org/wp-content/uploads/2021/09/DC_DogwoodCAD17-scaled.jpg
END:VEVENT
BEGIN:VEVENT
DTSTART;TZID=America/Chicago:20261007T133000
DTEND;TZID=America/Chicago:20261007T150000
DTSTAMP:20260422T165105
CREATED:20260221T204004Z
LAST-MODIFIED:20260221T204218Z
UID:10009912-1791379800-1791385200@dogwoodcanyon.org
SUMMARY:Stone-Age Survival Skills Demo
DESCRIPTION:There is a direct line of human technology\, from 2.3 million years ago when our earliest ancestors banged rocks to make cutting tools\, to the rapid advances in our modern world.  Join Bo Brown\, survival instructor and author of Foraging the Ozarks and Foraging Central Grasslands\, to explore the humble beginnings of the technologies that allowed our species to survive and thrive.
URL:https://dogwoodcanyon.org/event/stone-age-survival-skills-demo-2/2026-10-07/
ATTACH;FMTTYPE=image/jpeg:https://dogwoodcanyon.org/wp-content/uploads/2023/11/shutterstock_555811084-scaled-e1747932397666.jpg
END:VEVENT
BEGIN:VEVENT
DTSTART;TZID=America/Chicago:20261014T110000
DTEND;TZID=America/Chicago:20261014T123000
DTSTAMP:20260422T165105
CREATED:20260221T201715Z
LAST-MODIFIED:20260221T201715Z
UID:10009883-1791975600-1791981000@dogwoodcanyon.org
SUMMARY:Foraging the Ozarks
DESCRIPTION:Join Bo Brown\, wilderness survival instructor and author of Foraging the Ozarks and Foraging Central Grasslands\, at Dogwood Canyon Nature Park for a mosey around the canyon to learn about wildflowers\, edible and medicinal plants\, and a bit about local archaeology. Bring binoculars if you have them\, as there’s always a possibility to see beautiful songbirds and other Ozarks wildlife!
URL:https://dogwoodcanyon.org/event/foraging-the-ozarks-2/2026-10-14/
ATTACH;FMTTYPE=image/jpeg:https://dogwoodcanyon.org/wp-content/uploads/2021/09/DC_DogwoodCAD17-scaled.jpg
END:VEVENT
BEGIN:VEVENT
DTSTART;TZID=America/Chicago:20261014T133000
DTEND;TZID=America/Chicago:20261014T150000
DTSTAMP:20260422T165105
CREATED:20260221T204004Z
LAST-MODIFIED:20260221T204218Z
UID:10009913-1791984600-1791990000@dogwoodcanyon.org
SUMMARY:Stone-Age Survival Skills Demo
DESCRIPTION:There is a direct line of human technology\, from 2.3 million years ago when our earliest ancestors banged rocks to make cutting tools\, to the rapid advances in our modern world.  Join Bo Brown\, survival instructor and author of Foraging the Ozarks and Foraging Central Grasslands\, to explore the humble beginnings of the technologies that allowed our species to survive and thrive.
URL:https://dogwoodcanyon.org/event/stone-age-survival-skills-demo-2/2026-10-14/
ATTACH;FMTTYPE=image/jpeg:https://dogwoodcanyon.org/wp-content/uploads/2023/11/shutterstock_555811084-scaled-e1747932397666.jpg
END:VEVENT
BEGIN:VEVENT
DTSTART;TZID=America/Chicago:20261019T110000
DTEND;TZID=America/Chicago:20261019T123000
DTSTAMP:20260422T165105
CREATED:20260221T201715Z
LAST-MODIFIED:20260221T201715Z
UID:10009884-1792407600-1792413000@dogwoodcanyon.org
SUMMARY:Foraging the Ozarks
DESCRIPTION:Join Bo Brown\, wilderness survival instructor and author of Foraging the Ozarks and Foraging Central Grasslands\, at Dogwood Canyon Nature Park for a mosey around the canyon to learn about wildflowers\, edible and medicinal plants\, and a bit about local archaeology. Bring binoculars if you have them\, as there’s always a possibility to see beautiful songbirds and other Ozarks wildlife!
URL:https://dogwoodcanyon.org/event/foraging-the-ozarks-2/2026-10-19/
ATTACH;FMTTYPE=image/jpeg:https://dogwoodcanyon.org/wp-content/uploads/2021/09/DC_DogwoodCAD17-scaled.jpg
END:VEVENT
BEGIN:VEVENT
DTSTART;TZID=America/Chicago:20261019T133000
DTEND;TZID=America/Chicago:20261019T150000
DTSTAMP:20260422T165105
CREATED:20260221T204004Z
LAST-MODIFIED:20260221T204218Z
UID:10009914-1792416600-1792422000@dogwoodcanyon.org
SUMMARY:Stone-Age Survival Skills Demo
DESCRIPTION:There is a direct line of human technology\, from 2.3 million years ago when our earliest ancestors banged rocks to make cutting tools\, to the rapid advances in our modern world.  Join Bo Brown\, survival instructor and author of Foraging the Ozarks and Foraging Central Grasslands\, to explore the humble beginnings of the technologies that allowed our species to survive and thrive.
URL:https://dogwoodcanyon.org/event/stone-age-survival-skills-demo-2/2026-10-19/
ATTACH;FMTTYPE=image/jpeg:https://dogwoodcanyon.org/wp-content/uploads/2023/11/shutterstock_555811084-scaled-e1747932397666.jpg
END:VEVENT
BEGIN:VEVENT
DTSTART;TZID=America/Chicago:20261023T110000
DTEND;TZID=America/Chicago:20261023T123000
DTSTAMP:20260422T165105
CREATED:20260221T201715Z
LAST-MODIFIED:20260221T201715Z
UID:10009885-1792753200-1792758600@dogwoodcanyon.org
SUMMARY:Foraging the Ozarks
DESCRIPTION:Join Bo Brown\, wilderness survival instructor and author of Foraging the Ozarks and Foraging Central Grasslands\, at Dogwood Canyon Nature Park for a mosey around the canyon to learn about wildflowers\, edible and medicinal plants\, and a bit about local archaeology. Bring binoculars if you have them\, as there’s always a possibility to see beautiful songbirds and other Ozarks wildlife!
URL:https://dogwoodcanyon.org/event/foraging-the-ozarks-2/2026-10-23/
ATTACH;FMTTYPE=image/jpeg:https://dogwoodcanyon.org/wp-content/uploads/2021/09/DC_DogwoodCAD17-scaled.jpg
END:VEVENT
BEGIN:VEVENT
DTSTART;TZID=America/Chicago:20261023T133000
DTEND;TZID=America/Chicago:20261023T150000
DTSTAMP:20260422T165105
CREATED:20260221T204004Z
LAST-MODIFIED:20260221T204218Z
UID:10009915-1792762200-1792767600@dogwoodcanyon.org
SUMMARY:Stone-Age Survival Skills Demo
DESCRIPTION:There is a direct line of human technology\, from 2.3 million years ago when our earliest ancestors banged rocks to make cutting tools\, to the rapid advances in our modern world.  Join Bo Brown\, survival instructor and author of Foraging the Ozarks and Foraging Central Grasslands\, to explore the humble beginnings of the technologies that allowed our species to survive and thrive.
URL:https://dogwoodcanyon.org/event/stone-age-survival-skills-demo-2/2026-10-23/
ATTACH;FMTTYPE=image/jpeg:https://dogwoodcanyon.org/wp-content/uploads/2023/11/shutterstock_555811084-scaled-e1747932397666.jpg
END:VEVENT
BEGIN:VEVENT
DTSTART;TZID=America/Chicago:20261028T110000
DTEND;TZID=America/Chicago:20261028T123000
DTSTAMP:20260422T165105
CREATED:20260221T201715Z
LAST-MODIFIED:20260221T201715Z
UID:10009886-1793185200-1793190600@dogwoodcanyon.org
SUMMARY:Foraging the Ozarks
DESCRIPTION:Join Bo Brown\, wilderness survival instructor and author of Foraging the Ozarks and Foraging Central Grasslands\, at Dogwood Canyon Nature Park for a mosey around the canyon to learn about wildflowers\, edible and medicinal plants\, and a bit about local archaeology. Bring binoculars if you have them\, as there’s always a possibility to see beautiful songbirds and other Ozarks wildlife!
URL:https://dogwoodcanyon.org/event/foraging-the-ozarks-2/2026-10-28/
ATTACH;FMTTYPE=image/jpeg:https://dogwoodcanyon.org/wp-content/uploads/2021/09/DC_DogwoodCAD17-scaled.jpg
END:VEVENT
BEGIN:VEVENT
DTSTART;TZID=America/Chicago:20261028T133000
DTEND;TZID=America/Chicago:20261028T150000
DTSTAMP:20260422T165105
CREATED:20260221T204004Z
LAST-MODIFIED:20260221T204218Z
UID:10009916-1793194200-1793199600@dogwoodcanyon.org
SUMMARY:Stone-Age Survival Skills Demo
DESCRIPTION:There is a direct line of human technology\, from 2.3 million years ago when our earliest ancestors banged rocks to make cutting tools\, to the rapid advances in our modern world.  Join Bo Brown\, survival instructor and author of Foraging the Ozarks and Foraging Central Grasslands\, to explore the humble beginnings of the technologies that allowed our species to survive and thrive.
URL:https://dogwoodcanyon.org/event/stone-age-survival-skills-demo-2/2026-10-28/
ATTACH;FMTTYPE=image/jpeg:https://dogwoodcanyon.org/wp-content/uploads/2023/11/shutterstock_555811084-scaled-e1747932397666.jpg
END:VEVENT
BEGIN:VEVENT
DTSTART;TZID=America/Chicago:20261101T110000
DTEND;TZID=America/Chicago:20261101T123000
DTSTAMP:20260422T165105
CREATED:20260221T201715Z
LAST-MODIFIED:20260221T201715Z
UID:10009887-1793530800-1793536200@dogwoodcanyon.org
SUMMARY:Foraging the Ozarks
DESCRIPTION:Join Bo Brown\, wilderness survival instructor and author of Foraging the Ozarks and Foraging Central Grasslands\, at Dogwood Canyon Nature Park for a mosey around the canyon to learn about wildflowers\, edible and medicinal plants\, and a bit about local archaeology. Bring binoculars if you have them\, as there’s always a possibility to see beautiful songbirds and other Ozarks wildlife!
URL:https://dogwoodcanyon.org/event/foraging-the-ozarks-2/2026-11-01/
ATTACH;FMTTYPE=image/jpeg:https://dogwoodcanyon.org/wp-content/uploads/2021/09/DC_DogwoodCAD17-scaled.jpg
END:VEVENT
BEGIN:VEVENT
DTSTART;TZID=America/Chicago:20261101T133000
DTEND;TZID=America/Chicago:20261101T150000
DTSTAMP:20260422T165105
CREATED:20260221T204004Z
LAST-MODIFIED:20260221T204218Z
UID:10009917-1793539800-1793545200@dogwoodcanyon.org
SUMMARY:Stone-Age Survival Skills Demo
DESCRIPTION:There is a direct line of human technology\, from 2.3 million years ago when our earliest ancestors banged rocks to make cutting tools\, to the rapid advances in our modern world.  Join Bo Brown\, survival instructor and author of Foraging the Ozarks and Foraging Central Grasslands\, to explore the humble beginnings of the technologies that allowed our species to survive and thrive.
URL:https://dogwoodcanyon.org/event/stone-age-survival-skills-demo-2/2026-11-01/
ATTACH;FMTTYPE=image/jpeg:https://dogwoodcanyon.org/wp-content/uploads/2023/11/shutterstock_555811084-scaled-e1747932397666.jpg
END:VEVENT
BEGIN:VEVENT
DTSTART;TZID=America/Chicago:20261107T110000
DTEND;TZID=America/Chicago:20261107T123000
DTSTAMP:20260422T165105
CREATED:20260221T201715Z
LAST-MODIFIED:20260221T201715Z
UID:10009888-1794049200-1794054600@dogwoodcanyon.org
SUMMARY:Foraging the Ozarks
DESCRIPTION:Join Bo Brown\, wilderness survival instructor and author of Foraging the Ozarks and Foraging Central Grasslands\, at Dogwood Canyon Nature Park for a mosey around the canyon to learn about wildflowers\, edible and medicinal plants\, and a bit about local archaeology. Bring binoculars if you have them\, as there’s always a possibility to see beautiful songbirds and other Ozarks wildlife!
URL:https://dogwoodcanyon.org/event/foraging-the-ozarks-2/2026-11-07/
ATTACH;FMTTYPE=image/jpeg:https://dogwoodcanyon.org/wp-content/uploads/2021/09/DC_DogwoodCAD17-scaled.jpg
END:VEVENT
BEGIN:VEVENT
DTSTART;TZID=America/Chicago:20261107T133000
DTEND;TZID=America/Chicago:20261107T150000
DTSTAMP:20260422T165105
CREATED:20260221T204004Z
LAST-MODIFIED:20260221T204218Z
UID:10009918-1794058200-1794063600@dogwoodcanyon.org
SUMMARY:Stone-Age Survival Skills Demo
DESCRIPTION:There is a direct line of human technology\, from 2.3 million years ago when our earliest ancestors banged rocks to make cutting tools\, to the rapid advances in our modern world.  Join Bo Brown\, survival instructor and author of Foraging the Ozarks and Foraging Central Grasslands\, to explore the humble beginnings of the technologies that allowed our species to survive and thrive.
URL:https://dogwoodcanyon.org/event/stone-age-survival-skills-demo-2/2026-11-07/
ATTACH;FMTTYPE=image/jpeg:https://dogwoodcanyon.org/wp-content/uploads/2023/11/shutterstock_555811084-scaled-e1747932397666.jpg
END:VEVENT
BEGIN:VEVENT
DTSTART;TZID=America/Chicago:20261115T110000
DTEND;TZID=America/Chicago:20261115T123000
DTSTAMP:20260422T165105
CREATED:20260221T201715Z
LAST-MODIFIED:20260221T201715Z
UID:10009889-1794740400-1794745800@dogwoodcanyon.org
SUMMARY:Foraging the Ozarks
DESCRIPTION:Join Bo Brown\, wilderness survival instructor and author of Foraging the Ozarks and Foraging Central Grasslands\, at Dogwood Canyon Nature Park for a mosey around the canyon to learn about wildflowers\, edible and medicinal plants\, and a bit about local archaeology. Bring binoculars if you have them\, as there’s always a possibility to see beautiful songbirds and other Ozarks wildlife!
URL:https://dogwoodcanyon.org/event/foraging-the-ozarks-2/2026-11-15/
ATTACH;FMTTYPE=image/jpeg:https://dogwoodcanyon.org/wp-content/uploads/2021/09/DC_DogwoodCAD17-scaled.jpg
END:VEVENT
END:VCALENDAR