BEGIN:VCALENDAR
VERSION:2.0
PRODID:-//Dogwood Canyon - ECPv6.15.18//NONSGML v1.0//EN
CALSCALE:GREGORIAN
METHOD:PUBLISH
X-WR-CALNAME:Dogwood Canyon
X-ORIGINAL-URL:https://dogwoodcanyon.org
X-WR-CALDESC:Events for Dogwood Canyon
REFRESH-INTERVAL;VALUE=DURATION:PT1H
X-Robots-Tag:noindex
X-PUBLISHED-TTL:PT1H
BEGIN:VTIMEZONE
TZID:America/Chicago
BEGIN:DAYLIGHT
TZOFFSETFROM:-0600
TZOFFSETTO:-0500
TZNAME:CDT
DTSTART:20250309T080000
END:DAYLIGHT
BEGIN:STANDARD
TZOFFSETFROM:-0500
TZOFFSETTO:-0600
TZNAME:CST
DTSTART:20251102T070000
END:STANDARD
BEGIN:DAYLIGHT
TZOFFSETFROM:-0600
TZOFFSETTO:-0500
TZNAME:CDT
DTSTART:20260308T080000
END:DAYLIGHT
BEGIN:STANDARD
TZOFFSETFROM:-0500
TZOFFSETTO:-0600
TZNAME:CST
DTSTART:20261101T070000
END:STANDARD
BEGIN:DAYLIGHT
TZOFFSETFROM:-0600
TZOFFSETTO:-0500
TZNAME:CDT
DTSTART:20270314T080000
END:DAYLIGHT
BEGIN:STANDARD
TZOFFSETFROM:-0500
TZOFFSETTO:-0600
TZNAME:CST
DTSTART:20271107T070000
END:STANDARD
END:VTIMEZONE
BEGIN:VEVENT
DTSTART;TZID=America/Chicago:20260417T133000
DTEND;TZID=America/Chicago:20260417T150000
DTSTAMP:20260424T072350
CREATED:20260109T204157Z
LAST-MODIFIED:20260221T204145Z
UID:10009461-1776432600-1776438000@dogwoodcanyon.org
SUMMARY:Stone-Age Survival Skills Demo
DESCRIPTION:There is a direct line of human technology\, from 2.3 million years ago when our earliest ancestors banged rocks to make cutting tools\, to the rapid advances in our modern world.  Join Bo Brown\, survival instructor and author of Foraging the Ozarks and Foraging Central Grasslands\, to explore the humble beginnings of the technologies that allowed our species to survive and thrive.
URL:https://dogwoodcanyon.org/event/stone-age-survival-skills-demo/2026-04-17/
ATTACH;FMTTYPE=image/jpeg:https://dogwoodcanyon.org/wp-content/uploads/2023/11/shutterstock_555811084-scaled-e1747932397666.jpg
END:VEVENT
BEGIN:VEVENT
DTSTART;TZID=America/Chicago:20260410T133000
DTEND;TZID=America/Chicago:20260410T150000
DTSTAMP:20260424T072350
CREATED:20260109T204157Z
LAST-MODIFIED:20260221T204145Z
UID:10009460-1775827800-1775833200@dogwoodcanyon.org
SUMMARY:Stone-Age Survival Skills Demo
DESCRIPTION:There is a direct line of human technology\, from 2.3 million years ago when our earliest ancestors banged rocks to make cutting tools\, to the rapid advances in our modern world.  Join Bo Brown\, survival instructor and author of Foraging the Ozarks and Foraging Central Grasslands\, to explore the humble beginnings of the technologies that allowed our species to survive and thrive.
URL:https://dogwoodcanyon.org/event/stone-age-survival-skills-demo/2026-04-10/
ATTACH;FMTTYPE=image/jpeg:https://dogwoodcanyon.org/wp-content/uploads/2023/11/shutterstock_555811084-scaled-e1747932397666.jpg
END:VEVENT
BEGIN:VEVENT
DTSTART;TZID=America/Chicago:20260401T133000
DTEND;TZID=America/Chicago:20260401T150000
DTSTAMP:20260424T072350
CREATED:20260109T204157Z
LAST-MODIFIED:20260221T204145Z
UID:10009459-1775050200-1775055600@dogwoodcanyon.org
SUMMARY:Stone-Age Survival Skills Demo
DESCRIPTION:There is a direct line of human technology\, from 2.3 million years ago when our earliest ancestors banged rocks to make cutting tools\, to the rapid advances in our modern world.  Join Bo Brown\, survival instructor and author of Foraging the Ozarks and Foraging Central Grasslands\, to explore the humble beginnings of the technologies that allowed our species to survive and thrive.
URL:https://dogwoodcanyon.org/event/stone-age-survival-skills-demo/2026-04-01/
ATTACH;FMTTYPE=image/jpeg:https://dogwoodcanyon.org/wp-content/uploads/2023/11/shutterstock_555811084-scaled-e1747932397666.jpg
END:VEVENT
BEGIN:VEVENT
DTSTART;TZID=America/Chicago:20260327T133000
DTEND;TZID=America/Chicago:20260327T150000
DTSTAMP:20260424T072350
CREATED:20260109T204157Z
LAST-MODIFIED:20260221T204145Z
UID:10009458-1774618200-1774623600@dogwoodcanyon.org
SUMMARY:Stone-Age Survival Skills Demo
DESCRIPTION:There is a direct line of human technology\, from 2.3 million years ago when our earliest ancestors banged rocks to make cutting tools\, to the rapid advances in our modern world.  Join Bo Brown\, survival instructor and author of Foraging the Ozarks and Foraging Central Grasslands\, to explore the humble beginnings of the technologies that allowed our species to survive and thrive.
URL:https://dogwoodcanyon.org/event/stone-age-survival-skills-demo/2026-03-27/
ATTACH;FMTTYPE=image/jpeg:https://dogwoodcanyon.org/wp-content/uploads/2023/11/shutterstock_555811084-scaled-e1747932397666.jpg
END:VEVENT
END:VCALENDAR